BEGIN:VCALENDAR
VERSION:2.0
PRODID:www.gruene-rhein-pfalz.de
METHOD:PUBLISH
BEGIN:VTIMEZONE
TZID:Europe/Berlin
X-LIC-LOCATION:Europe/Berlin
BEGIN:DAYLIGHT
TZOFFSETFROM:+0100
TZOFFSETTO:+0200
TZNAME:CEST
DTSTART:19700329T020000
RRULE:FREQ=YEARLY;INTERVAL=1;BYDAY=-1SU;BYMONTH=3
END:DAYLIGHT
BEGIN:STANDARD
TZOFFSETFROM:+0200
TZOFFSETTO:+0100
TZNAME:CET
DTSTART:19701025T030000
RRULE:FREQ=YEARLY;INTERVAL=1;BYDAY=-1SU;BYMONTH=10
END:STANDARD
END:VTIMEZONE
BEGIN:VEVENT
UID:db6248f3aa9e37032d81d0c034a56452@www.gruene-rhein-pfalz.de
URL;VALUE=URI:https://www.gruene-rhein-pfalz.de/termine/kreisvorstandssit
 zung-3/
LOCATION:
SUMMARY:Kreisvorstandssitzung
DESCRIPTION;ALTREP="data:text/html,%0A%3Cpre%20class%3D%22wp-block-prefor
 matted%22%3Eonline%20unter%20https%3A%2F%2Fkonferenz.netzbegruenung.de%2F
 kv-rhein-pfalz%3C%2Fpre%3E%0A":online unter https://konferenz.netzbegruen
 ung.de/kv-rhein-pfalz
CLASS:PUBLIC
DTSTART;TZID=Europe/Berlin:20260428T193000
DTEND;TZID=Europe/Berlin:20260428T210000
DTSTAMP:20260421T080257
END:VEVENT
BEGIN:VEVENT
UID:a9f47eccafcf0b77776d733a63b98dd9@www.gruene-rhein-pfalz.de
URL;VALUE=URI:https://www.gruene-rhein-pfalz.de/termine/kreistags-fraktio
 nssitzung-4/
LOCATION:Info zu Ort nach Anmeldung unter fraktion@gruene-rhein-pfalz.de
SUMMARY:Kreistags-Fraktionssitzung
DESCRIPTION;ALTREP="data:text/html,%0A%3Cp%20class%3D%22wp-block-paragrap
 h%22%3EInfo%20zu%20Ort%20nach%20Anmeldung%20unter%C2%A0%3Ca%20href%3D%22m
 ailto%3Afraktion%40gruene-rhein-pfalz.de%22%20target%3D%22_blank%22%20rel
 %3D%22noreferrer%20noopener%22%3Efraktion%40gruene-rhein-pfalz.de%3C%2Fa%
 3E%3C%2Fp%3E%0A":Info zu Ort nach Anmeldung unter fraktion@gruene-rhein-
 pfalz.de
CLASS:PUBLIC
DTSTART;TZID=Europe/Berlin:20260504T193000
DTEND;TZID=Europe/Berlin:20260504T203000
DTSTAMP:20260421T080257
END:VEVENT
BEGIN:VEVENT
UID:9be4b38d0c85f23f47b79003244b33cd@www.gruene-rhein-pfalz.de
URL;VALUE=URI:https://www.gruene-rhein-pfalz.de/termine/kreisvorstandssit
 zung-5/
LOCATION:
SUMMARY:Kreisvorstandssitzung
DESCRIPTION;ALTREP="data:text/html,%0A%3Cp%20class%3D%22wp-block-paragrap
 h%22%3Eonline%20unter%20%3Ca%20href%3D%22https%3A%2F%2Fkonferenz.netzbegr
 uenung.de%2Fkv-rhein-pfalz%22%3Ehttps%3A%2F%2Fkonferenz.netzbegruenung.de
 %2Fkv-rhein-pfalz%3C%2Fa%3E%3C%2Fp%3E%0A":online unter https://konferenz.
 netzbegruenung.de/kv-rhein-pfalz
CLASS:PUBLIC
DTSTART;TZID=Europe/Berlin:20260511T193000
DTEND;TZID=Europe/Berlin:20260511T210000
DTSTAMP:20260421T080257
END:VEVENT
BEGIN:VEVENT
UID:3101e26112edb1255a478e5f55bd1395@www.gruene-rhein-pfalz.de
URL;VALUE=URI:https://www.gruene-rhein-pfalz.de/termine/kreisvorstandssit
 zung-6/
LOCATION:
SUMMARY:Kreisvorstandssitzung
DESCRIPTION;ALTREP="data:text/html,%0A%3Cp%20class%3D%22wp-block-paragrap
 h%22%3Eonline%20unter%20%3Ca%20href%3D%22https%3A%2F%2Fkonferenz.netzbegr
 uenung.de%2Fkv-rhein-pfalz%22%3Ehttps%3A%2F%2Fkonferenz.netzbegruenung.de
 %2Fkv-rhein-pfalz%3C%2Fa%3E%3C%2Fp%3E%0A":online unter https://konferenz.
 netzbegruenung.de/kv-rhein-pfalz
CLASS:PUBLIC
DTSTART;TZID=Europe/Berlin:20260526T193000
DTEND;TZID=Europe/Berlin:20260526T210000
DTSTAMP:20260421T080257
END:VEVENT
BEGIN:VEVENT
UID:5abfa697829d2658585a20e9b3eaf02a@www.gruene-rhein-pfalz.de
URL;VALUE=URI:https://www.gruene-rhein-pfalz.de/termine/kreisvorstandssit
 zung-7/
LOCATION:
SUMMARY:Kreisvorstandssitzung
DESCRIPTION;ALTREP="data:text/html,%0A%3Cp%20class%3D%22wp-block-paragrap
 h%22%3Eonline%20unter%20%3Ca%20href%3D%22https%3A%2F%2Fkonferenz.netzbegr
 uenung.de%2Fkv-rhein-pfalz%22%3Ehttps%3A%2F%2Fkonferenz.netzbegruenung.de
 %2Fkv-rhein-pfalz%3C%2Fa%3E%3C%2Fp%3E%0A":online unter https://konferenz.
 netzbegruenung.de/kv-rhein-pfalz
CLASS:PUBLIC
DTSTART;TZID=Europe/Berlin:20260608T193000
DTEND;TZID=Europe/Berlin:20260608T210000
DTSTAMP:20260421T080257
END:VEVENT
BEGIN:VEVENT
UID:f2832f86bbd6b09c6b57ccb78f2c95b3@www.gruene-rhein-pfalz.de
URL;VALUE=URI:https://www.gruene-rhein-pfalz.de/termine/grillfest-des-kv/
LOCATION:
SUMMARY:Grillfest des KV
DESCRIPTION;ALTREP="data:text/html,%0A%3Cp%20class%3D%22wp-block-paragrap
 h%22%3Ein%20der%20Harth%C3%A4user%20Grillh%C3%BCtte%20%3C%2Fp%3E%0A%0A%0A
 %0A%3Cfigure%20class%3D%22wp-block-image%20size-large%22%3E%3Cimg%20src%3
 D%22https%3A%2F%2Fwww.gruene-rhein-pfalz.de%2Fwp-content%2Fuploads%2F2026
 %2F04%2F2026-06-12-Einladung-Grillfest-800x800.jpg%22%20alt%3D%22%22%20cl
 ass%3D%22wp-image-3878%22%20%2F%3E%3C%2Ffigure%3E%0A":in der Harthäuser 
 Grillhütte
CLASS:PUBLIC
DTSTART;TZID=Europe/Berlin:20260612T170000
DTEND;TZID=Europe/Berlin:20260612T220000
DTSTAMP:20260421T080257
END:VEVENT
BEGIN:VEVENT
UID:b90318d6d0b40c4a33ad4e2303e48a77@www.gruene-rhein-pfalz.de
URL;VALUE=URI:https://www.gruene-rhein-pfalz.de/termine/kreistags-fraktio
 nssitzung-5/
LOCATION:Info zu Ort nach Anmeldung unter fraktion@gruene-rhein-pfalz.de
SUMMARY:Kreistags-Fraktionssitzung
DESCRIPTION;ALTREP="data:text/html,%0A%3Cp%20class%3D%22wp-block-paragrap
 h%22%3EInfo%20zu%20Ort%20nach%20Anmeldung%20unter%26nbsp%3B%3Ca%20href%3D
 %22mailto%3Afraktion%40gruene-rhein-pfalz.de%22%20target%3D%22_blank%22%2
 0rel%3D%22noreferrer%20noopener%22%3Efraktion%40gruene-rhein-pfalz.de%3C%
 2Fa%3E%3C%2Fp%3E%0A":Info zu Ort nach Anmeldung unter fraktion@gruene-rh
 ein-pfalz.de
CLASS:PUBLIC
DTSTART;TZID=Europe/Berlin:20260615T193000
DTEND;TZID=Europe/Berlin:20260615T203000
DTSTAMP:20260421T080257
END:VEVENT
BEGIN:VEVENT
UID:4a01ea178289fa739ef1fea315c38bfc@www.gruene-rhein-pfalz.de
URL;VALUE=URI:https://www.gruene-rhein-pfalz.de/termine/kreisvorstandssit
 zung-8/
LOCATION:
SUMMARY:Kreisvorstandssitzung
DESCRIPTION;ALTREP="data:text/html,%0A%3Cp%20class%3D%22wp-block-paragrap
 h%22%3Eonline%20unter%20%3Ca%20href%3D%22https%3A%2F%2Fkonferenz.netzbegr
 uenung.de%2Fkv-rhein-pfalz%22%3Ehttps%3A%2F%2Fkonferenz.netzbegruenung.de
 %2Fkv-rhein-pfalz%3C%2Fa%3E%3C%2Fp%3E%0A":online unter https://konferenz.
 netzbegruenung.de/kv-rhein-pfalz
CLASS:PUBLIC
DTSTART;TZID=Europe/Berlin:20260623T193000
DTEND;TZID=Europe/Berlin:20260623T210000
DTSTAMP:20260421T080257
END:VEVENT
BEGIN:VEVENT
UID:e43cb27dd95c70a4561a9c740096e58b@www.gruene-rhein-pfalz.de
URL;VALUE=URI:https://www.gruene-rhein-pfalz.de/termine/kreistags-fraktio
 nssitzung-6/
LOCATION:Info zu Ort nach Anmeldung unter fraktion@gruene-rhein-pfalz.de
SUMMARY:Kreistags-Fraktionssitzung
DESCRIPTION;ALTREP="data:text/html,%0A%3Cp%20class%3D%22wp-block-paragrap
 h%22%3EInfo%20zu%20Ort%20nach%20Anmeldung%20unter%C2%A0%3Ca%20href%3D%22m
 ailto%3Afraktion%40gruene-rhein-pfalz.de%22%20target%3D%22_blank%22%20rel
 %3D%22noreferrer%20noopener%22%3Efraktion%40gruene-rhein-pfalz.de%3C%2Fa%
 3E%3C%2Fp%3E%0A%0A%0A%0A%3Cp%20class%3D%22wp-block-paragraph%22%3E%3C%2Fp
 %3E%0A":Info zu Ort nach Anmeldung unter fraktion@gruene-rhein-pfalz.de
CLASS:PUBLIC
DTSTART;TZID=Europe/Berlin:20260831T193000
DTEND;TZID=Europe/Berlin:20260831T203000
DTSTAMP:20260421T080257
END:VEVENT
BEGIN:VEVENT
UID:64ffc3723f88ae865dc0ee6ad556ac12@www.gruene-rhein-pfalz.de
URL;VALUE=URI:https://www.gruene-rhein-pfalz.de/termine/kreistags-fraktio
 nssitzung-7/
LOCATION:Info zu Ort nach Anmeldung unter fraktion@gruene-rhein-pfalz.de
SUMMARY:Kreistags-Fraktionssitzung
DESCRIPTION;ALTREP="data:text/html,%0A%3Cp%20class%3D%22wp-block-paragrap
 h%22%3EInfo%20zu%20Ort%20nach%20Anmeldung%20unter%C2%A0%3Ca%20href%3D%22m
 ailto%3Afraktion%40gruene-rhein-pfalz.de%22%20target%3D%22_blank%22%20rel
 %3D%22noreferrer%20noopener%22%3Efraktion%40gruene-rhein-pfalz.de%3C%2Fa%
 3E%3C%2Fp%3E%0A":Info zu Ort nach Anmeldung unter fraktion@gruene-rhein-
 pfalz.de
CLASS:PUBLIC
DTSTART;TZID=Europe/Berlin:20260928T193000
DTEND;TZID=Europe/Berlin:20260928T203000
DTSTAMP:20260421T080257
END:VEVENT
BEGIN:VEVENT
UID:c475398ad9a087dd1806aec7cbba4f45@www.gruene-rhein-pfalz.de
URL;VALUE=URI:https://www.gruene-rhein-pfalz.de/termine/kreistags-fraktio
 nssitzung-8/
LOCATION:Info zu Ort nach Anmeldung unter fraktion@gruene-rhein-pfalz.de
SUMMARY:Kreistags-Fraktionssitzung
DESCRIPTION;ALTREP="data:text/html,%0A%3Cp%20class%3D%22wp-block-paragrap
 h%22%3EInfo%20zu%20Ort%20nach%20Anmeldung%20unter%C2%A0%3Ca%20href%3D%22m
 ailto%3Afraktion%40gruene-rhein-pfalz.de%22%20target%3D%22_blank%22%20rel
 %3D%22noreferrer%20noopener%22%3Efraktion%40gruene-rhein-pfalz.de%3C%2Fa%
 3E%3C%2Fp%3E%0A":Info zu Ort nach Anmeldung unter fraktion@gruene-rhein-
 pfalz.de
CLASS:PUBLIC
DTSTART;TZID=Europe/Berlin:20261019T193000
DTEND;TZID=Europe/Berlin:20261019T203000
DTSTAMP:20260421T080257
END:VEVENT
BEGIN:VEVENT
UID:3fab603d7a15c05a257241974c096831@www.gruene-rhein-pfalz.de
URL;VALUE=URI:https://www.gruene-rhein-pfalz.de/termine/kreistags-fraktio
 nssitzung-9/
LOCATION:Info zu Ort nach Anmeldung unter fraktion@gruene-rhein-pfalz.de
SUMMARY:Kreistags-Fraktionssitzung
DESCRIPTION;ALTREP="data:text/html,%0A%3Cp%20class%3D%22wp-block-paragrap
 h%22%3EInfo%20zu%20Ort%20nach%20Anmeldung%20unter%C2%A0%3Ca%20href%3D%22m
 ailto%3Afraktion%40gruene-rhein-pfalz.de%22%20target%3D%22_blank%22%20rel
 %3D%22noreferrer%20noopener%22%3Efraktion%40gruene-rhein-pfalz.de%3C%2Fa%
 3E%3C%2Fp%3E%0A":Info zu Ort nach Anmeldung unter fraktion@gruene-rhein-
 pfalz.de
CLASS:PUBLIC
DTSTART;TZID=Europe/Berlin:20261102T193000
DTEND;TZID=Europe/Berlin:20261102T203000
DTSTAMP:20260421T080257
END:VEVENT
BEGIN:VEVENT
UID:b7c52817fe85cacd43e0e03b2cb90170@www.gruene-rhein-pfalz.de
URL;VALUE=URI:https://www.gruene-rhein-pfalz.de/termine/kreistags-fraktio
 nssitzung-10/
LOCATION:Info zu Ort nach Anmeldung unter fraktion@gruene-rhein-pfalz.de
SUMMARY:Kreistags-Fraktionssitzung
DESCRIPTION;ALTREP="data:text/html,%0A%3Cp%20class%3D%22wp-block-paragrap
 h%22%3EInfo%20zu%20Ort%20nach%20Anmeldung%20unter%C2%A0%3Ca%20href%3D%22m
 ailto%3Afraktion%40gruene-rhein-pfalz.de%22%20target%3D%22_blank%22%20rel
 %3D%22noreferrer%20noopener%22%3Efraktion%40gruene-rhein-pfalz.de%3C%2Fa%
 3E%3C%2Fp%3E%0A":Info zu Ort nach Anmeldung unter fraktion@gruene-rhein-
 pfalz.de
CLASS:PUBLIC
DTSTART;TZID=Europe/Berlin:20261130T193000
DTEND;TZID=Europe/Berlin:20261130T203000
DTSTAMP:20260421T080257
END:VEVENT
END:VCALENDAR