BEGIN:VCALENDAR
VERSION:2.0
PRODID:www.gruene-rhein-pfalz.de
METHOD:PUBLISH
BEGIN:VTIMEZONE
TZID:Europe/Berlin
X-LIC-LOCATION:Europe/Berlin
BEGIN:DAYLIGHT
TZOFFSETFROM:+0100
TZOFFSETTO:+0200
TZNAME:CEST
DTSTART:19700329T020000
RRULE:FREQ=YEARLY;INTERVAL=1;BYDAY=-1SU;BYMONTH=3
END:DAYLIGHT
BEGIN:STANDARD
TZOFFSETFROM:+0200
TZOFFSETTO:+0100
TZNAME:CET
DTSTART:19701025T030000
RRULE:FREQ=YEARLY;INTERVAL=1;BYDAY=-1SU;BYMONTH=10
END:STANDARD
END:VTIMEZONE
BEGIN:VEVENT
UID:b100d71d558715558704900df1c52167@www.gruene-rhein-pfalz.de
URL;VALUE=URI:https://www.gruene-rhein-pfalz.de/termine/petry-kelly-film-
 im-lux-kino-frankenthal/
LOCATION:
SUMMARY:Petry Kelly Film im Lux Kino Frankenthal
DESCRIPTION;ALTREP="data:text/html,%0A%3Cp%20class%3D%22wp-block-paragrap
 h%22%3EFilm%20%26amp%3B%20Feminismus%3A%20Wir%20feiern%20Petra%20Kelly%21
 %20%F0%9F%8C%8D%E2%9C%A8%3C%2Fp%3E%0A%0A%0A%0A%3Cp%20class%3D%22wp-block-
 paragraph%22%3EAm%20Weltfrauentag%2C%20dem%208.%20M%C3%A4rz%2C%20zeigen%2
 0wir%20im%20LUX%20Kino%20Frankenthal%20den%20bewegenden%20Film%20%C3%BCbe
 r%20die%20Ikone%20der%20Friedens-%20und%20Umweltbewegung%20%E2%80%93%20Pe
 tra%20Kelly.%20Kommt%20vorbei%2C%20diskutiert%20mit%20und%20lasst%20uns%2
 0gemeinsam%20f%C3%BCr%20eine%20gerechtere%20Zukunft%20k%C3%A4mpfen%21%3C%
 2Fp%3E%0A%0A%0A%0A%3Cp%20class%3D%22wp-block-paragraph%22%3E%F0%9F%93%85%
 208.3.26%20%7C%2013%E2%80%9315%3A30%20Uhr%F0%9F%93%8D%20LUX%20Kino%20Fran
 kenthal%3C%2Fp%3E%0A%0A%0A%0A%3Cp%20class%3D%22wp-block-paragraph%22%3EEi
 ntritt%20frei%21%20%28Anmeldung%3A%20buero%40gruene-rhein-pfalz.de%29%3Cb
 r%3EMit%20unseren%20Direktkandidatinnen%20Lena%20Fr%C3%B6hlich%20%28WK35%
 29%20%26amp%3B%20Andrea%20Franz%20%28WK38%29%3C%2Fp%3E%0A%0A%0A%0A%3Cp%20
 class%3D%22wp-block-paragraph%22%3EPetra%20Kelly%20hat%20gezeigt%3A%20Pol
 itik%20kann%20mutig%2C%20feministisch%20und%20%C3%B6kologisch%20sein.%20L
 asst%20uns%20ihre%20Vision%20weitertragen%21%20%20Der%20Film%20von%20Dori
 s%20Metz%20%C3%BCber%20die%20Umweltaktivistin%20und%20Friedensk%C3%A4mpfe
 rin%20wurde%202025%20mit%20dem%20Deutschen%20Filmpreis%20ausgezeichnet.%2
 0%3C%2Fp%3E%0A%0A%0A%0A%3Cdiv%20class%3D%22wp-block-buttons%20is-content-
 justification-center%20is-layout-flex%20wp-container-core-buttons-is-layo
 ut-fe48e5de%20wp-block-buttons-is-layout-flex%22%3E%0A%3Cdiv%20class%3D%2
 2wp-block-button%22%3E%3Ca%20class%3D%22wp-block-button__link%20wp-elemen
 t-button%22%20href%3D%22https%3A%2F%2Fwww.realfictionfilme.de%2Fpetra-kel
 ly-act-now%21.html%22%20target%3D%22_blank%22%20rel%3D%22noreferrer%20noo
 pener%22%3EMehr%20zum%20Film%3C%2Fa%3E%3C%2Fdiv%3E%0A%3C%2Fdiv%3E%0A%0A%0
 A%0A%3Cp%20class%3D%22wp-block-paragraph%22%3E%3C%2Fp%3E%0A%0A%0A%0A%3Cdi
 v%20class%3D%22wp-block-columns%20is-layout-flex%20wp-container-core-colu
 mns-is-layout-8f761849%20wp-block-columns-is-layout-flex%22%3E%0A%3Cdiv%2
 0class%3D%22wp-block-column%20is-layout-flow%20wp-block-column-is-layout-
 flow%22%3E%0A%3Cfigure%20class%3D%22wp-block-image%20size-large%22%3E%3Ci
 mg%20src%3D%22https%3A%2F%2Fwww.gruene-rhein-pfalz.de%2Fwp-content%2Fuplo
 ads%2F2026%2F02%2F20260308_PetraKellyFilm-800x1000.png%22%20alt%3D%22%22%
 20class%3D%22wp-image-3840%22%20%2F%3E%3C%2Ffigure%3E%0A%3C%2Fdiv%3E%0A%0
 A%0A%0A%3Cdiv%20class%3D%22wp-block-column%20is-layout-flow%20wp-block-co
 lumn-is-layout-flow%22%3E%0A%3Cfigure%20class%3D%22wp-block-image%20size-
 large%22%3E%3Cimg%20src%3D%22https%3A%2F%2Fwww.gruene-rhein-pfalz.de%2Fwp
 -content%2Fuploads%2F2026%2F02%2Fpetrak-plakata1-englisch-web-800x1133.jp
 g%22%20alt%3D%22%22%20class%3D%22wp-image-3841%22%20%2F%3E%3C%2Ffigure%3E
 %0A%3C%2Fdiv%3E%0A%3C%2Fdiv%3E%0A":Film & Feminismus: Wir feiern Petra Ke
 lly! 🌍✨\n\nAm Weltfrauentag\, dem 8. März\, zeigen wir im LUX Kino 
 Frankenthal den bewegenden Film über die Ikone der Friedens- und Umweltb
 ewegung – Petra Kelly. Kommt vorbei\, diskutiert mit und lasst uns geme
 insam für eine gerechtere Zukunft kämpfen!\n\n📅 8.3.26 | 13–15:30 
 Uhr📍 LUX Kino Frankenthal\n\nEintritt frei! (Anmeldung: buero@gruene-r
 hein-pfalz.de)Mit unseren Direktkandidatinnen Lena Fröhlich (WK35) & And
 rea Franz (WK38)\n\nPetra Kelly hat gezeigt: Politik kann mutig\, feminis
 tisch und ökologisch sein. Lasst uns ihre Vision weitertragen!  Der Film
  von Doris Metz über die Umweltaktivistin und Friedenskämpferin wurde 2
 025 mit dem Deutschen Filmpreis ausgezeichnet.\n\nMehr zum Film
CLASS:PUBLIC
DTSTART;TZID=Europe/Berlin:20260308T130000
DTEND;TZID=Europe/Berlin:20260308T150000
DTSTAMP:20260421T114752
END:VEVENT
END:VCALENDAR