BEGIN:VCALENDAR
VERSION:2.0
PRODID:www.gruene-rhein-pfalz.de
METHOD:PUBLISH
BEGIN:VTIMEZONE
TZID:Europe/Berlin
X-LIC-LOCATION:Europe/Berlin
BEGIN:DAYLIGHT
TZOFFSETFROM:+0100
TZOFFSETTO:+0200
TZNAME:CEST
DTSTART:19700329T020000
RRULE:FREQ=YEARLY;INTERVAL=1;BYDAY=-1SU;BYMONTH=3
END:DAYLIGHT
BEGIN:STANDARD
TZOFFSETFROM:+0200
TZOFFSETTO:+0100
TZNAME:CET
DTSTART:19701025T030000
RRULE:FREQ=YEARLY;INTERVAL=1;BYDAY=-1SU;BYMONTH=10
END:STANDARD
END:VTIMEZONE
BEGIN:VEVENT
UID:ac6013f27e6888fcc338f94253eeba11@www.gruene-rhein-pfalz.de
URL;VALUE=URI:https://www.gruene-rhein-pfalz.de/termine/neujahrsempfang-2
 026/
LOCATION:Albert-Schweitzer-Haus, Albert-Schweitzer-Str. 7a, 67117 Limburg
 erhof
SUMMARY:Neujahrsempfang 2026
DESCRIPTION;ALTREP="data:text/html,%0A%3Cp%20class%3D%22has-text-align-le
 ft%20wp-block-paragraph%22%3E%3Cstrong%3Edes%20KV%20Rhein-Pfalz%20in%20Li
 mburgerhof%3C%2Fstrong%3E%3C%2Fp%3E%0A%0A%0A%0A%3Cfigure%20class%3D%22wp-
 block-image%20size-large%22%3E%3Cimg%20src%3D%22https%3A%2F%2Fwww.gruene-
 rhein-pfalz.de%2Fwp-content%2Fuploads%2F2025%2F09%2FAnne-KV-Veranstaltung
 en-800x1000.jpg%22%20alt%3D%22%22%20class%3D%22wp-image-3803%22%20%2F%3E%
 3C%2Ffigure%3E%0A":des KV Rhein-Pfalz in Limburgerhof
CLASS:PUBLIC
DTSTART;TZID=Europe/Berlin:20260207T150000
DTEND;TZID=Europe/Berlin:20260207T180000
DTSTAMP:20260421T095302
END:VEVENT
END:VCALENDAR