BEGIN:VCALENDAR
VERSION:2.0
PRODID:www.gruene-rhein-pfalz.de
METHOD:PUBLISH
BEGIN:VTIMEZONE
TZID:Europe/Berlin
X-LIC-LOCATION:Europe/Berlin
BEGIN:DAYLIGHT
TZOFFSETFROM:+0100
TZOFFSETTO:+0200
TZNAME:CEST
DTSTART:19700329T020000
RRULE:FREQ=YEARLY;INTERVAL=1;BYDAY=-1SU;BYMONTH=3
END:DAYLIGHT
BEGIN:STANDARD
TZOFFSETFROM:+0200
TZOFFSETTO:+0100
TZNAME:CET
DTSTART:19701025T030000
RRULE:FREQ=YEARLY;INTERVAL=1;BYDAY=-1SU;BYMONTH=10
END:STANDARD
END:VTIMEZONE
BEGIN:VEVENT
UID:75f1bd30ad1099a2316af42d7d08dfe5@www.gruene-rhein-pfalz.de
URL;VALUE=URI:https://www.gruene-rhein-pfalz.de/termine/kreisvorstandssit
 zung-2/
LOCATION:Wahlkreisbüro A. Grau, Burgunderplatz 7a, Limburgerhof
SUMMARY:Kreisvorstandssitzung
DESCRIPTION;ALTREP="data:text/html,%0A%3Cp%20class%3D%22wp-block-paragrap
 h%22%3E%3Cstrong%3Eein%20Tag%20nach%20der%20rheinland-pf%C3%A4lzischen%20
 Landtagswahl%3C%2Fstrong%3E%3C%2Fp%3E%0A%0A%0A%0A%3Cp%20class%3D%22wp-blo
 ck-paragraph%22%3ETeilnahme%20von%20Ortsvorst%C3%A4nden%20sehr%20erw%C3%B
 Cnscht%3C%2Fp%3E%0A":ein Tag nach der rheinland-pfälzischen Landtagswahl
 \n\nTeilnahme von Ortsvorständen sehr erwünscht
CLASS:PUBLIC
DTSTART;TZID=Europe/Berlin:20260323T193000
DTEND;TZID=Europe/Berlin:20260323T210000
DTSTAMP:20260422T115000
END:VEVENT
END:VCALENDAR