BEGIN:VCALENDAR
VERSION:2.0
PRODID:www.gruene-rhein-pfalz.de
METHOD:PUBLISH
BEGIN:VTIMEZONE
TZID:Europe/Berlin
X-LIC-LOCATION:Europe/Berlin
BEGIN:DAYLIGHT
TZOFFSETFROM:+0100
TZOFFSETTO:+0200
TZNAME:CEST
DTSTART:19700329T020000
RRULE:FREQ=YEARLY;INTERVAL=1;BYDAY=-1SU;BYMONTH=3
END:DAYLIGHT
BEGIN:STANDARD
TZOFFSETFROM:+0200
TZOFFSETTO:+0100
TZNAME:CET
DTSTART:19701025T030000
RRULE:FREQ=YEARLY;INTERVAL=1;BYDAY=-1SU;BYMONTH=10
END:STANDARD
END:VTIMEZONE
BEGIN:VEVENT
UID:3eecc75b0881fb4364b8efe810381f8b@www.gruene-rhein-pfalz.de
URL;VALUE=URI:https://www.gruene-rhein-pfalz.de/termine/kreisvorstandssit
 zung/
LOCATION:
SUMMARY:Kreisvorstandssitzung
DESCRIPTION;ALTREP="data:text/html,%0A%3Cp%20class%3D%22wp-block-paragrap
 h%22%3E%3Cem%3E%3Cstrong%3ETeilnahme%20von%20Ortsvorst%C3%A4nden%20sehr%2
 0erw%C3%BCnscht%20%3C%2Fstrong%3E%3C%2Fem%3E%3C%2Fp%3E%0A%0A%0A%0A%3Cp%20
 class%3D%22wp-block-paragraph%22%3E%3C%2Fp%3E%0A":Teilnahme von Ortsvorst
 änden sehr erwünscht
CLASS:PUBLIC
DTSTART;TZID=Europe/Berlin:20260310T193000
DTEND;TZID=Europe/Berlin:20260310T210000
DTSTAMP:20260421T104624
END:VEVENT
END:VCALENDAR