BEGIN:VCALENDAR
VERSION:2.0
PRODID:www.gruene-rhein-pfalz.de
METHOD:PUBLISH
BEGIN:VTIMEZONE
TZID:Europe/Berlin
X-LIC-LOCATION:Europe/Berlin
BEGIN:DAYLIGHT
TZOFFSETFROM:+0100
TZOFFSETTO:+0200
TZNAME:CEST
DTSTART:19700329T020000
RRULE:FREQ=YEARLY;INTERVAL=1;BYDAY=-1SU;BYMONTH=3
END:DAYLIGHT
BEGIN:STANDARD
TZOFFSETFROM:+0200
TZOFFSETTO:+0100
TZNAME:CET
DTSTART:19701025T030000
RRULE:FREQ=YEARLY;INTERVAL=1;BYDAY=-1SU;BYMONTH=10
END:STANDARD
END:VTIMEZONE
BEGIN:VEVENT
UID:854ee16c8dc133c57ef901ece4dfa17b@www.gruene-rhein-pfalz.de
URL;VALUE=URI:https://www.gruene-rhein-pfalz.de/termine/gruene-auf-dem-bo
 ehler-weihnachtsmarkt/
LOCATION:Festplatz Böhl, Böhl-Iggelheim
SUMMARY:Grüne auf dem Böhler Weihnachtsmarkt
DESCRIPTION;ALTREP="data:text/html,%0A%3Cp%20class%3D%22wp-block-paragrap
 h%22%3Ein%20B%C3%B6hl-Iggelheim%20vom%2028.%20bis%2030.%20November%202025
 %20%3C%2Fp%3E%0A":in Böhl-Iggelheim vom 28. bis 30. November 2025
CLASS:PUBLIC
DTSTART;TZID=Europe/Berlin:20251128T120000
DTEND;TZID=Europe/Berlin:20251130T190000
DTSTAMP:20260421T101110
END:VEVENT
END:VCALENDAR