BEGIN:VCALENDAR
VERSION:2.0
PRODID:www.gruene-rhein-pfalz.de
METHOD:PUBLISH
BEGIN:VTIMEZONE
TZID:Europe/Berlin
X-LIC-LOCATION:Europe/Berlin
BEGIN:DAYLIGHT
TZOFFSETFROM:+0100
TZOFFSETTO:+0200
TZNAME:CEST
DTSTART:19700329T020000
RRULE:FREQ=YEARLY;INTERVAL=1;BYDAY=-1SU;BYMONTH=3
END:DAYLIGHT
BEGIN:STANDARD
TZOFFSETFROM:+0200
TZOFFSETTO:+0100
TZNAME:CET
DTSTART:19701025T030000
RRULE:FREQ=YEARLY;INTERVAL=1;BYDAY=-1SU;BYMONTH=10
END:STANDARD
END:VTIMEZONE
BEGIN:VEVENT
UID:5ec2abc48e0cf0e73a6b825dd472c5e3@www.gruene-rhein-pfalz.de
URL;VALUE=URI:https://www.gruene-rhein-pfalz.de/termine/frauen-fruehstuec
 k-mit-lena-froehlich/
LOCATION:Cafe Ideal, Eisenbahnstraße 2, Frankenthal
SUMMARY:Frauen-Frühstück mit Lena Fröhlich
DESCRIPTION;ALTREP="data:text/html,%0A%3Cp%20class%3D%22wp-block-paragrap
 h%22%3EFrauenpower%20beim%20Fr%C3%BChst%C3%BCck%21%20%F0%9F%A5%9E%E2%98%9
 5%3C%2Fp%3E%0A%0A%0A%0A%3Cp%20class%3D%22wp-block-paragraph%22%3EAm%201.%
 20M%C3%A4rz%20um%2010%20Uhr%20l%C3%A4dt%20unsere%20Direktkandidatin%20Len
 a%20Fr%C3%B6hlich%20zum%20Austausch%20ins%20Caf%C3%A9%20Ideal%20%28Eisenb
 ahnstra%C3%9Fe%202%2C%20Frankenthal%29.%20Lasst%20uns%20%C3%BCber%20Polit
 ik%20sprechen%20%E2%80%93%20bei%20Kaffee%2C%20Croissants%20und%20starken%
 20Ideen%20f%C3%BCr%20unsere%20Region%21%3C%2Fp%3E%0A%0A%0A%0A%3Cp%20class
 %3D%22wp-block-paragraph%22%3EWie%20stellen%20wir%20uns%20eine%20gerechte
 %20Zukunft%20vor%3F%20Welche%20Themen%20brennen%20euch%20unter%20den%20N%
 C3%A4geln%3F%20Kommt%20vorbei%2C%20bringt%20eure%20Fragen%20mit%20und%20l
 asst%20uns%20gemeinsam%20Pl%C3%A4ne%20schmieden.%3C%2Fp%3E%0A%0A%0A%0A%3C
 p%20class%3D%22wp-block-paragraph%22%3EAnmeldung%3A%20buero%40gruene-rhei
 n-pfalz.de%3C%2Fp%3E%0A%0A%0A%0A%3Cfigure%20class%3D%22wp-block-image%20s
 ize-large%22%3E%3Cimg%20src%3D%22https%3A%2F%2Fwww.gruene-rhein-pfalz.de%
 2Fwp-content%2Fuploads%2F2026%2F02%2F20260301_Lena_FrauenFruehstueck-800x
 1000.png%22%20alt%3D%22%22%20class%3D%22wp-image-3838%22%20%2F%3E%3C%2Ffi
 gure%3E%0A":Frauenpower beim Frühstück! 🥞☕\n\nAm 1. März um 10 Uh
 r lädt unsere Direktkandidatin Lena Fröhlich zum Austausch ins Café Id
 eal (Eisenbahnstraße 2\, Frankenthal). Lasst uns über Politik sprechen 
 – bei Kaffee\, Croissants und starken Ideen für unsere Region!\n\nWie 
 stellen wir uns eine gerechte Zukunft vor? Welche Themen brennen euch unt
 er den Nägeln? Kommt vorbei\, bringt eure Fragen mit und lasst uns gemei
 nsam Pläne schmieden.\n\nAnmeldung: buero@gruene-rhein-pfalz.de
CLASS:PUBLIC
DTSTART;TZID=Europe/Berlin:20260301T100000
DTEND;TZID=Europe/Berlin:20260301T120000
DTSTAMP:20260421T100105
END:VEVENT
END:VCALENDAR